BEGIN:VCALENDAR
VERSION:2.0
PRODID:-//Gulf Shores Golf Club - Gulf Shores, AL - ECPv6.15.20//NONSGML v1.0//EN
CALSCALE:GREGORIAN
METHOD:PUBLISH
X-ORIGINAL-URL:https://gulfshoresgolfclub.com
X-WR-CALDESC:Events for Gulf Shores Golf Club - Gulf Shores, AL
REFRESH-INTERVAL;VALUE=DURATION:PT1H
X-Robots-Tag:noindex
X-PUBLISHED-TTL:PT1H
BEGIN:VTIMEZONE
TZID:America/Chicago
BEGIN:DAYLIGHT
TZOFFSETFROM:-0600
TZOFFSETTO:-0500
TZNAME:CDT
DTSTART:20250309T080000
END:DAYLIGHT
BEGIN:STANDARD
TZOFFSETFROM:-0500
TZOFFSETTO:-0600
TZNAME:CST
DTSTART:20251102T070000
END:STANDARD
BEGIN:DAYLIGHT
TZOFFSETFROM:-0600
TZOFFSETTO:-0500
TZNAME:CDT
DTSTART:20260308T080000
END:DAYLIGHT
BEGIN:STANDARD
TZOFFSETFROM:-0500
TZOFFSETTO:-0600
TZNAME:CST
DTSTART:20261101T070000
END:STANDARD
BEGIN:DAYLIGHT
TZOFFSETFROM:-0600
TZOFFSETTO:-0500
TZNAME:CDT
DTSTART:20270314T080000
END:DAYLIGHT
BEGIN:STANDARD
TZOFFSETFROM:-0500
TZOFFSETTO:-0600
TZNAME:CST
DTSTART:20271107T070000
END:STANDARD
END:VTIMEZONE
BEGIN:VEVENT
DTSTART;TZID=America/Chicago:20260419T080000
DTEND;TZID=America/Chicago:20260419T160000
DTSTAMP:20260423T104643
CREATED:20260306T205007Z
LAST-MODIFIED:20260306T205011Z
UID:10000012-1776585600-1776614400@gulfshoresgolfclub.com
SUMMARY:The Southern Fairways Golf Tour Event
DESCRIPTION:Formerly the Gulf Coast Golf Association
URL:https://gulfshoresgolfclub.com/event/the-southern-fairways-golf-tour-event/
CATEGORIES:Tournaments
END:VEVENT
END:VCALENDAR